BEGIN:VCALENDAR
VERSION:2.0
PRODID:-// - ECPv4.9.7//NONSGML v1.0//EN
CALSCALE:GREGORIAN
METHOD:PUBLISH
X-ORIGINAL-URL:http://ham.suchak.com
X-WR-CALDESC:Events for 
BEGIN:VTIMEZONE
TZID:"UTC"
BEGIN:STANDARD
TZOFFSETFROM:+0000
TZOFFSETTO:+0000
TZNAME:UTC
DTSTART:20200101T000000
END:STANDARD
END:VTIMEZONE
BEGIN:VEVENT
DTSTART;TZID="UTC":20200312T183000
DTEND;TZID="UTC":20200312T230000
DTSTAMP:20260420T163212
CREATED:20190818T150240Z
LAST-MODIFIED:20190818T150240Z
UID:150-1584037800-1584054000@ham.suchak.com
SUMMARY:Wellington Square No. 725 Official Visit
DESCRIPTION:Dinner at 6:30 PM \nAccompanying Lodge: Tuscan No. 551 \n  \n \nAt this event donations of non-perishable or monetory donations will be accepted for the District Food Drive Challenge. \nThe beneficiary of the food drive is Food For Life.  Please visit their site to see the wonderful service they provide the whole of the Hamilton District A region. \nThe Challenge Draw will take place on the final DDGM Visit for the current Masonic year. \nMost needed items are non perishable items – canned meat\, fish\, vegetables\, fruits and peanut free snacks \nEVERY $1 DONATED PROVIDES FOUR MEALS FOR THE COMMUNITY \n
URL:http://ham.suchak.com/event/wellington-square-no-725-official-visit/
LOCATION:Burlington Masonic Temple\, 459 Brant Street\, Burlington\, ontario\, L7R 2G3\, Canada
CATEGORIES:Official Visit
END:VEVENT
END:VCALENDAR