BEGIN:VCALENDAR
VERSION:2.0
PRODID:-// - ECPv4.9.7//NONSGML v1.0//EN
CALSCALE:GREGORIAN
METHOD:PUBLISH
X-ORIGINAL-URL:http://ham.suchak.com
X-WR-CALDESC:Events for 
BEGIN:VTIMEZONE
TZID:"UTC"
BEGIN:STANDARD
TZOFFSETFROM:+0000
TZOFFSETTO:+0000
TZNAME:UTC
DTSTART:20200101T000000
END:STANDARD
END:VTIMEZONE
BEGIN:VEVENT
DTSTART;TZID="UTC":20200604T183000
DTEND;TZID="UTC":20200604T183000
DTSTAMP:20260420T090105
CREATED:20190818T154517Z
LAST-MODIFIED:20190818T154517Z
UID:186-1591295400-1591295400@ham.suchak.com
SUMMARY:Tuscan No. 551 Installation
DESCRIPTION:Dinner at 6:30 PM \n
URL:http://ham.suchak.com/event/tuscan-no-551-installation/
LOCATION:Hamilton Masonic Centre\, 4 Queen Street South\, Hamilton\, ontario\, L8P 3R3\, Canada
CATEGORIES:Lodge Installation
END:VEVENT
END:VCALENDAR