BEGIN:VCALENDAR
VERSION:2.0
PRODID:-// - ECPv4.9.7//NONSGML v1.0//EN
CALSCALE:GREGORIAN
METHOD:PUBLISH
X-ORIGINAL-URL:http://ham.suchak.com
X-WR-CALDESC:Events for 
BEGIN:VTIMEZONE
TZID:"UTC"
BEGIN:STANDARD
TZOFFSETFROM:+0000
TZOFFSETTO:+0000
TZNAME:UTC
DTSTART:20190101T000000
END:STANDARD
END:VTIMEZONE
BEGIN:VEVENT
DTSTART;TZID="UTC":20190919T193000
DTEND;TZID="UTC":20190919T230000
DTSTAMP:20260421T043616
CREATED:20190809T233846Z
LAST-MODIFIED:20190820T132019Z
UID:92-1568921400-1568934000@ham.suchak.com
SUMMARY:St. John's No. 40 Installation
DESCRIPTION:Refreshments to follow \n
URL:http://ham.suchak.com/event/st-johns-no-40-installation/
LOCATION:Hamilton Masonic Centre\, 4 Queen Street South\, Hamilton\, ontario\, L8P 3R3\, Canada
CATEGORIES:Lodge Installation
END:VEVENT
END:VCALENDAR