BEGIN:VCALENDAR
VERSION:2.0
PRODID:-// - ECPv4.9.7//NONSGML v1.0//EN
CALSCALE:GREGORIAN
METHOD:PUBLISH
X-ORIGINAL-URL:http://ham.suchak.com
X-WR-CALDESC:Events for 
BEGIN:VTIMEZONE
TZID:"UTC"
BEGIN:STANDARD
TZOFFSETFROM:+0000
TZOFFSETTO:+0000
TZNAME:UTC
DTSTART:20190101T000000
END:STANDARD
END:VTIMEZONE
BEGIN:VEVENT
DTSTART;TZID="UTC":20191205T183000
DTEND;TZID="UTC":20191205T183000
DTSTAMP:20260420T222520
CREATED:20190818T153145Z
LAST-MODIFIED:20190818T153145Z
UID:170-1575570600-1575570600@ham.suchak.com
SUMMARY:St. Clair No. 135 Installation
DESCRIPTION:Dinner at 6:30 PM \n
URL:http://ham.suchak.com/event/st-clair-no-135-installation/
LOCATION:Saint Clair Masonic Lodge\, 6321 Regional Road 25\, Milton\, Ontario\, L0P 1E0
CATEGORIES:Lodge Installation
END:VEVENT
END:VCALENDAR