BEGIN:VCALENDAR
VERSION:2.0
PRODID:-// - ECPv4.9.7//NONSGML v1.0//EN
CALSCALE:GREGORIAN
METHOD:PUBLISH
X-ORIGINAL-URL:http://ham.suchak.com
X-WR-CALDESC:Events for 
BEGIN:VTIMEZONE
TZID:"UTC"
BEGIN:STANDARD
TZOFFSETFROM:+0000
TZOFFSETTO:+0000
TZNAME:UTC
DTSTART:20190101T000000
END:STANDARD
END:VTIMEZONE
BEGIN:VEVENT
DTSTART;TZID="UTC":20190910T183000
DTEND;TZID="UTC":20190910T213000
DTSTAMP:20260421T025543
CREATED:20190812T202525Z
LAST-MODIFIED:20190812T202700Z
UID:97-1568140200-1568151000@ham.suchak.com
SUMMARY:Regalia Presentation - R. W. Bro. Mark Kapitan
DESCRIPTION:BEACH LODGE NO. 639\nIs pleased to invite you to their meeting on\nTuesday September 10th\, 2019\nBeing held at the Scottish Rite Building \n4 Queen St. S. Hamilton \nA Celebration for the Grand Junior Warden \nR.W. BRO. MARK W. KAPITAN \nWith a presentation on the History of his Regalia. \nLodge opens at 6:30pm Visitors and Grand Lodge Officers 7:00pm\nFamily and Friends at Call Off Refreshments to follow \nPlease RSVP at secretary@beach639.com \n
URL:http://ham.suchak.com/event/regalia-presentation-r-w-bro-mark-kapitan/
LOCATION:Hamilton Masonic Centre\, 4 Queen Street South\, Hamilton\, ontario\, L8P 3R3\, Canada
CATEGORIES:District Event
ORGANIZER;CN="W.%20Bro.%20Glen%20Verrier":MAILTO:secretary@beach639.com
END:VEVENT
END:VCALENDAR