BEGIN:VCALENDAR
VERSION:2.0
PRODID:-// - ECPv4.9.7//NONSGML v1.0//EN
CALSCALE:GREGORIAN
METHOD:PUBLISH
X-ORIGINAL-URL:http://ham.suchak.com
X-WR-CALDESC:Events for 
BEGIN:VTIMEZONE
TZID:"UTC"
BEGIN:STANDARD
TZOFFSETFROM:+0000
TZOFFSETTO:+0000
TZNAME:UTC
DTSTART:20190101T000000
END:STANDARD
END:VTIMEZONE
BEGIN:VEVENT
DTSTART;TZID="UTC":20191130T083000
DTEND;TZID="UTC":20191130T083000
DTSTAMP:20260420T203356
CREATED:20190818T155636Z
LAST-MODIFIED:20190818T155636Z
UID:192-1575102600-1575102600@ham.suchak.com
SUMMARY:Past Masters Association Meeting
DESCRIPTION:Meet &  Greet at 8:30 AM\, Breakfast at 9:00 AM \nM. W. Bro. Ronald Groshaw \n
URL:http://ham.suchak.com/event/past-masters-association-meeting-2/
LOCATION:Hamilton Masonic Centre\, 4 Queen Street South\, Hamilton\, ontario\, L8P 3R3\, Canada
CATEGORIES:Past Masters Association Event
ORGANIZER;CN="V.%20W.%20Bro.%20Allan%20Hale":MAILTO:haleville@sympatico.ca
END:VEVENT
END:VCALENDAR