BEGIN:VCALENDAR
VERSION:2.0
PRODID:-// - ECPv4.9.7//NONSGML v1.0//EN
CALSCALE:GREGORIAN
METHOD:PUBLISH
X-ORIGINAL-URL:http://ham.suchak.com
X-WR-CALDESC:Events for 
BEGIN:VTIMEZONE
TZID:"UTC"
BEGIN:STANDARD
TZOFFSETFROM:+0000
TZOFFSETTO:+0000
TZNAME:UTC
DTSTART:20200101T000000
END:STANDARD
END:VTIMEZONE
BEGIN:VEVENT
DTSTART;TZID="UTC":20200302T183000
DTEND;TZID="UTC":20200302T230000
DTSTAMP:20260420T145441
CREATED:20190818T145607Z
LAST-MODIFIED:20190818T145706Z
UID:146-1583173800-1583190000@ham.suchak.com
SUMMARY:Dundurn No. 475 Official Visit
DESCRIPTION:Dinner at 6:30 PM \nAccompanying Lodge: Waterdown No. 357 \n  \n \nAt this event donations of non-perishable or monetory donations will be accepted for the District Food Drive Challenge. \nThe beneficiary of the food drive is Food For Life.  Please visit their site to see the wonderful service they provide the whole of the Hamilton District A region. \nThe Challenge Draw will take place on the final DDGM Visit for the current Masonic year. \nMost needed items are non perishable items – canned meat\, fish\, vegetables\, fruits and peanut free snacks \nEVERY $1 DONATED PROVIDES FOUR MEALS FOR THE COMMUNITY \n
URL:http://ham.suchak.com/event/dundurn-no-475-official-visit/
LOCATION:Hillcrest Masonic Temple Corporation\, 257 Mohawk Road West\, Hamilton\, Ontario\, L9C 1W2\, Canada
CATEGORIES:Official Visit
END:VEVENT
END:VCALENDAR