BEGIN:VCALENDAR
VERSION:2.0
PRODID:-// - ECPv4.9.7//NONSGML v1.0//EN
CALSCALE:GREGORIAN
METHOD:PUBLISH
X-ORIGINAL-URL:http://ham.suchak.com
X-WR-CALDESC:Events for 
BEGIN:VTIMEZONE
TZID:"UTC"
BEGIN:STANDARD
TZOFFSETFROM:+0000
TZOFFSETTO:+0000
TZNAME:UTC
DTSTART:20200101T000000
END:STANDARD
END:VTIMEZONE
BEGIN:VEVENT
DTSTART;TZID="UTC":20200606T183000
DTEND;TZID="UTC":20200606T183000
DTSTAMP:20260420T064508
CREATED:20190818T154618Z
LAST-MODIFIED:20190818T154618Z
UID:188-1591468200-1591468200@ham.suchak.com
SUMMARY:Dundurn No. 475 Installation
DESCRIPTION:Dinner at 6:30 PM \n
URL:http://ham.suchak.com/event/dundurn-no-475-installation/
LOCATION:Hillcrest Masonic Temple Corporation\, 257 Mohawk Road West\, Hamilton\, Ontario\, L9C 1W2\, Canada
CATEGORIES:Lodge Installation
END:VEVENT
END:VCALENDAR