BEGIN:VCALENDAR
VERSION:2.0
PRODID:-// - ECPv4.9.7//NONSGML v1.0//EN
CALSCALE:GREGORIAN
METHOD:PUBLISH
X-ORIGINAL-URL:http://ham.suchak.com
X-WR-CALDESC:Events for 
BEGIN:VTIMEZONE
TZID:"UTC"
BEGIN:STANDARD
TZOFFSETFROM:+0000
TZOFFSETTO:+0000
TZNAME:UTC
DTSTART:20200101T000000
END:STANDARD
END:VTIMEZONE
BEGIN:VEVENT
DTSTART;TZID="UTC":20200220T190000
DTEND;TZID="UTC":20200220T190000
DTSTAMP:20260420T164238
CREATED:20190818T171737Z
LAST-MODIFIED:20190818T171737Z
UID:207-1582225200-1582225200@ham.suchak.com
SUMMARY:Craft Association Meeting
DESCRIPTION:Inevitability of Opportunity \nR. W. Bro. Gordon Crutcher \nHosted by Dundurn Lodge No. 475 \n
URL:http://ham.suchak.com/event/craft-association-meeting-0229/
LOCATION:Hillcrest Masonic Temple Corporation\, 257 Mohawk Road West\, Hamilton\, Ontario\, L9C 1W2\, Canada
CATEGORIES:Craft Association event
ORGANIZER;CN="R.%20W.%20Bro.%20Mark%20Kapitan":MAILTO:mwm0331@hotmail.com
END:VEVENT
END:VCALENDAR