BEGIN:VCALENDAR
VERSION:2.0
PRODID:-// - ECPv4.9.7//NONSGML v1.0//EN
CALSCALE:GREGORIAN
METHOD:PUBLISH
X-ORIGINAL-URL:http://ham.suchak.com
X-WR-CALDESC:Events for 
BEGIN:VTIMEZONE
TZID:"UTC"
BEGIN:STANDARD
TZOFFSETFROM:+0000
TZOFFSETTO:+0000
TZNAME:UTC
DTSTART:20200101T000000
END:STANDARD
END:VTIMEZONE
BEGIN:VEVENT
DTSTART;TZID="UTC":20200111T180000
DTEND;TZID="UTC":20200111T180000
DTSTAMP:20260420T182357
CREATED:20190818T153811Z
LAST-MODIFIED:20190818T153811Z
UID:178-1578765600-1578765600@ham.suchak.com
SUMMARY:Claude M. Kent No. 681 Installation
DESCRIPTION:Installation at 6:00 PM with dinner to follow installation \n
URL:http://ham.suchak.com/event/claude-m-kent-no-681-installation/
LOCATION:Oakville Masonic Hall Corporation\, 125 Thomas Street\, Oakville\, Ontario\, L6J 3A9\, Canada
CATEGORIES:Lodge Installation
END:VEVENT
END:VCALENDAR