BEGIN:VCALENDAR
VERSION:2.0
PRODID:-// - ECPv4.9.7//NONSGML v1.0//EN
CALSCALE:GREGORIAN
METHOD:PUBLISH
X-ORIGINAL-URL:http://ham.suchak.com
X-WR-CALDESC:Events for 
BEGIN:VTIMEZONE
TZID:"UTC"
BEGIN:STANDARD
TZOFFSETFROM:+0000
TZOFFSETTO:+0000
TZNAME:UTC
DTSTART:20190101T000000
END:STANDARD
END:VTIMEZONE
BEGIN:VEVENT
DTSTART;TZID="UTC":20191109T150000
DTEND;TZID="UTC":20191109T150000
DTSTAMP:20260420T224326
CREATED:20190818T152742Z
LAST-MODIFIED:20190818T152742Z
UID:166-1573311600-1573311600@ham.suchak.com
SUMMARY:Campbell No. 603 Installation
DESCRIPTION:3:00 PM Installation with Refreshments to follow \n
URL:http://ham.suchak.com/event/campbell-no-603-installation/
LOCATION:Campbell Masonic Lodge\, 30 Campbell Ave East\, Milton\, Ontario\, L0P 1B0\, Canada
CATEGORIES:Lodge Installation
END:VEVENT
END:VCALENDAR