BEGIN:VCALENDAR
VERSION:2.0
PRODID:-// - ECPv4.9.7//NONSGML v1.0//EN
CALSCALE:GREGORIAN
METHOD:PUBLISH
X-ORIGINAL-URL:http://ham.suchak.com
X-WR-CALDESC:Events for 
BEGIN:VTIMEZONE
TZID:"UTC"
BEGIN:STANDARD
TZOFFSETFROM:+0000
TZOFFSETTO:+0000
TZNAME:UTC
DTSTART:20190101T000000
END:STANDARD
END:VTIMEZONE
BEGIN:VEVENT
DTSTART;TZID="UTC":20190916T193000
DTEND;TZID="UTC":20190916T230000
DTSTAMP:20260421T023833
CREATED:20190809T233740Z
LAST-MODIFIED:20190809T233740Z
UID:90-1568662200-1568674800@ham.suchak.com
SUMMARY:Brant No. 663 Installation
DESCRIPTION:Refreshments to follow \n
URL:http://ham.suchak.com/event/brant-no-663-installation/
LOCATION:Burlington Masonic Temple\, 459 Brant Street\, Burlington\, ontario\, L7R 2G3\, Canada
CATEGORIES:Lodge Installation
END:VEVENT
END:VCALENDAR