BEGIN:VCALENDAR
VERSION:2.0
PRODID:-// - ECPv4.9.7//NONSGML v1.0//EN
CALSCALE:GREGORIAN
METHOD:PUBLISH
X-ORIGINAL-URL:http://ham.suchak.com
X-WR-CALDESC:Events for 
BEGIN:VTIMEZONE
TZID:"UTC"
BEGIN:STANDARD
TZOFFSETFROM:+0000
TZOFFSETTO:+0000
TZNAME:UTC
DTSTART:20200101T000000
END:STANDARD
END:VTIMEZONE
BEGIN:VEVENT
DTSTART;TZID="UTC":20200512T183000
DTEND;TZID="UTC":20200512T183000
DTSTAMP:20260420T111643
CREATED:20190818T154408Z
LAST-MODIFIED:20190818T154408Z
UID:184-1589308200-1589308200@ham.suchak.com
SUMMARY:Beach No. 639 Installation
DESCRIPTION:Dinner at 6:30 PM \n
URL:http://ham.suchak.com/event/beach-no-639-installation/
LOCATION:Burlington Masonic Temple\, 459 Brant Street\, Burlington\, ontario\, L7R 2G3\, Canada
CATEGORIES:Lodge Installation
END:VEVENT
END:VCALENDAR