BEGIN:VCALENDAR
VERSION:2.0
PRODID:-// - ECPv4.9.7//NONSGML v1.0//EN
CALSCALE:GREGORIAN
METHOD:PUBLISH
X-ORIGINAL-URL:http://ham.suchak.com
X-WR-CALDESC:Events for 
BEGIN:VTIMEZONE
TZID:"UTC"
BEGIN:STANDARD
TZOFFSETFROM:+0000
TZOFFSETTO:+0000
TZNAME:UTC
DTSTART:20200101T000000
END:STANDARD
END:VTIMEZONE
BEGIN:VEVENT
DTSTART;TZID="UTC":20200826T163000
DTEND;TZID="UTC":20200826T193000
DTSTAMP:20260420T064657
CREATED:20190812T204624Z
LAST-MODIFIED:20190812T204637Z
UID:117-1598459400-1598470200@ham.suchak.com
SUMMARY:2020 Beef and Corn Roast
DESCRIPTION:4:30 – 5:00 pm corn; Dinner 6:00 pm \n
URL:http://ham.suchak.com/event/2020-beef-and-corn-roast/
LOCATION:630 Trinity Road S\, Jerseyville\, Ontario\, L0R 1R0\, Canada
CATEGORIES:District Event
END:VEVENT
END:VCALENDAR