BEGIN:VCALENDAR
VERSION:2.0
PRODID:-// - ECPv4.9.7//NONSGML v1.0//EN
CALSCALE:GREGORIAN
METHOD:PUBLISH
X-ORIGINAL-URL:http://ham.suchak.com
X-WR-CALDESC:Events for 
BEGIN:VTIMEZONE
TZID:"UTC"
BEGIN:STANDARD
TZOFFSETFROM:+0000
TZOFFSETTO:+0000
TZNAME:UTC
DTSTART:20190101T000000
END:STANDARD
END:VTIMEZONE
BEGIN:VEVENT
DTSTART;TZID="UTC":20190828T203000
DTEND;TZID="UTC":20190828T210000
DTSTAMP:20260421T030127
CREATED:20190808T021910Z
LAST-MODIFIED:20190809T233403Z
UID:43-1567024200-1567026000@ham.suchak.com
SUMMARY:2019 Beef and Corn Roast
DESCRIPTION:4:30 – 5:00 pm corn; Dinner 6:00 pm \n
URL:http://ham.suchak.com/event/2019-beef-and-corn-roast/
LOCATION:630 Trinity Road S\, Jerseyville\, Ontario\, L0R 1R0\, Canada
CATEGORIES:District Event
END:VEVENT
END:VCALENDAR